BEGIN:VCALENDAR
VERSION:2.0
PRODID:-//L&#039;Atelier d&#039;Ambroise - ECPv6.13.2.1//NONSGML v1.0//EN
CALSCALE:GREGORIAN
METHOD:PUBLISH
X-WR-CALNAME:L&#039;Atelier d&#039;Ambroise
X-ORIGINAL-URL:https://atelierdambroise.fr
X-WR-CALDESC:Évènements pour L&#039;Atelier d&#039;Ambroise
REFRESH-INTERVAL;VALUE=DURATION:PT1H
X-Robots-Tag:noindex
X-PUBLISHED-TTL:PT1H
BEGIN:VTIMEZONE
TZID:Europe/Paris
BEGIN:DAYLIGHT
TZOFFSETFROM:+0100
TZOFFSETTO:+0200
TZNAME:CEST
DTSTART:20250330T010000
END:DAYLIGHT
BEGIN:STANDARD
TZOFFSETFROM:+0200
TZOFFSETTO:+0100
TZNAME:CET
DTSTART:20251026T010000
END:STANDARD
BEGIN:DAYLIGHT
TZOFFSETFROM:+0100
TZOFFSETTO:+0200
TZNAME:CEST
DTSTART:20260329T010000
END:DAYLIGHT
BEGIN:STANDARD
TZOFFSETFROM:+0200
TZOFFSETTO:+0100
TZNAME:CET
DTSTART:20261025T010000
END:STANDARD
END:VTIMEZONE
BEGIN:VEVENT
DTSTART;VALUE=DATE:20250501
DTEND;VALUE=DATE:20260502
DTSTAMP:20260424T135227
CREATED:20250513T083202Z
LAST-MODIFIED:20250513T083202Z
UID:887-1746057600-1777679999@atelierdambroise.fr
SUMMARY:Exposition permanente (sur rendez-vous)
DESCRIPTION:Vous pouvez venir découvrir les oeuvres et rencontrer l’artiste dans son atelier. Accueil sur rendez-vous (06 14 81 34 32 – laurent@atelierdambroise.com).
URL:https://atelierdambroise.fr/expo/exposition-permanente/
LOCATION:Atelier\, 95 chemin du petit passage\, Roëzé-sur-Sarthe\, 72210\, France
ATTACH;FMTTYPE=image/jpeg:https://atelierdambroise.fr/wp-content/uploads/2025/05/laurent-tavernier-atelier-ambroise-etincelles.jpg
END:VEVENT
END:VCALENDAR