BEGIN:VCALENDAR
VERSION:2.0
PRODID:-//L&#039;Atelier d&#039;Ambroise - ECPv6.13.2.1//NONSGML v1.0//EN
CALSCALE:GREGORIAN
METHOD:PUBLISH
X-ORIGINAL-URL:https://atelierdambroise.fr
X-WR-CALDESC:Évènements pour L&#039;Atelier d&#039;Ambroise
REFRESH-INTERVAL;VALUE=DURATION:PT1H
X-Robots-Tag:noindex
X-PUBLISHED-TTL:PT1H
BEGIN:VTIMEZONE
TZID:Europe/Paris
BEGIN:DAYLIGHT
TZOFFSETFROM:+0100
TZOFFSETTO:+0200
TZNAME:CEST
DTSTART:20250330T010000
END:DAYLIGHT
BEGIN:STANDARD
TZOFFSETFROM:+0200
TZOFFSETTO:+0100
TZNAME:CET
DTSTART:20251026T010000
END:STANDARD
BEGIN:DAYLIGHT
TZOFFSETFROM:+0100
TZOFFSETTO:+0200
TZNAME:CEST
DTSTART:20260329T010000
END:DAYLIGHT
BEGIN:STANDARD
TZOFFSETFROM:+0200
TZOFFSETTO:+0100
TZNAME:CET
DTSTART:20261025T010000
END:STANDARD
END:VTIMEZONE
BEGIN:VEVENT
DTSTART;TZID=Europe/Paris:20250301T080000
DTEND;TZID=Europe/Paris:20260301T170000
DTSTAMP:20260424T153939
CREATED:20250315T094144Z
LAST-MODIFIED:20250430T160338Z
UID:20-1740816000-1772384400@atelierdambroise.fr
SUMMARY:Expo et vente en boutique
DESCRIPTION:Les créations de Laurent Tavernier et de l’atelier d’Ambroise à découvrir dans une superbe boutique de St Cast le Guildo !
URL:https://atelierdambroise.fr/expo/expo-tali/
LOCATION:Tali\, Boutique de créateurs Bretons\, 2 bis boulevard duponchel\, Saint Cast le Guildo\, 22380\, France
ATTACH;FMTTYPE=image/jpeg:https://atelierdambroise.fr/wp-content/uploads/2025/04/Depeche-Paul-on-est-en-retard.jpg
END:VEVENT
END:VCALENDAR